BEGIN:VCALENDAR
VERSION:2.0
PRODID:icalendar-ruby
CALSCALE:GREGORIAN
METHOD:PUBLISH
BEGIN:VEVENT
DTSTAMP:20260425T134542Z
UID:140-207347@unitycr.org
DTSTART:20260426T141500Z
DTEND:20260426T144500Z
CLASS:PUBLIC
CREATED:20260425T070525
DESCRIPTION:Gather on Sunday morning in the bookstore to share affirmative 
 prayer and discussion using the most current Unity booklet\, And So We Pra
 y - Affirmative Prayers for Real Life. 
LAST-MODIFIED:20260425T070525
LOCATION:
SUMMARY:And So We Pray: Affirmative Prayers for Real Life
URL;VALUE=URI:https://www.unitycr.org/events/and-so-we-pray-affirmative-pra
 yers-for-real-life/2026-04-26
ATTACH;FILENAME=And-So-We-Pray.png;FMTTYPE=image/png:https://dq5pwpg1q8ru0.
 cloudfront.net/2026/04/16/23/00/42/6a738708-8372-445a-a63e-a45114152ea1/An
 d-So-We-Pray.png
END:VEVENT
END:VCALENDAR
